BEGIN:VCALENDAR
VERSION:2.0
PRODID:-//Haus 37 - ECPv6.15.20//NONSGML v1.0//EN
CALSCALE:GREGORIAN
METHOD:PUBLISH
X-ORIGINAL-URL:https://haus37.de
X-WR-CALDESC:Veranstaltungen für Haus 37
REFRESH-INTERVAL;VALUE=DURATION:PT1H
X-Robots-Tag:noindex
X-PUBLISHED-TTL:PT1H
BEGIN:VTIMEZONE
TZID:Europe/Berlin
BEGIN:DAYLIGHT
TZOFFSETFROM:+0100
TZOFFSETTO:+0200
TZNAME:CEST
DTSTART:20230326T010000
END:DAYLIGHT
BEGIN:STANDARD
TZOFFSETFROM:+0200
TZOFFSETTO:+0100
TZNAME:CET
DTSTART:20231029T010000
END:STANDARD
BEGIN:DAYLIGHT
TZOFFSETFROM:+0100
TZOFFSETTO:+0200
TZNAME:CEST
DTSTART:20240331T010000
END:DAYLIGHT
BEGIN:STANDARD
TZOFFSETFROM:+0200
TZOFFSETTO:+0100
TZNAME:CET
DTSTART:20241027T010000
END:STANDARD
BEGIN:DAYLIGHT
TZOFFSETFROM:+0100
TZOFFSETTO:+0200
TZNAME:CEST
DTSTART:20250330T010000
END:DAYLIGHT
BEGIN:STANDARD
TZOFFSETFROM:+0200
TZOFFSETTO:+0100
TZNAME:CET
DTSTART:20251026T010000
END:STANDARD
END:VTIMEZONE
BEGIN:VEVENT
DTSTART;TZID=Europe/Berlin:20241201T180000
DTEND;TZID=Europe/Berlin:20241201T193000
DTSTAMP:20260421T183946
CREATED:20241030T131230Z
LAST-MODIFIED:20241107T131434Z
UID:19258-1733076000-1733081400@haus37.de
SUMMARY:Buschorchester - kleines Ensemble
DESCRIPTION:Das Ensemble unter der Leitung von Christian Deichert besteht seit 2000 und gibt regelmäßig Konzerte in Freiburg und Umgebung\, gelegentlich aber auch jenseits der badischen Grenzen bis hin nach Polen\, Spanien oder ins Allgäu. Ursprünglich bestand das Repertoire aus sogenannter „native music“\, vornehmlich afrikanischen Stücken\, aber auch aus indianischen\, karibischen\, indischen Liedern oder solchen der neuseeländischen Ureinwohner*innen. Im Lauf der Jahre entwickelte sich daraus der eigene Stil des Buschorchesters: Mitreißende Rhythmik\, selbstgefertigte Instrumente und faszinierende Stimmen verbinden die Musik verschiedener Kulturen. \nFoto: Buschorchester \nTickets reservieren unter mail@haus37.de
URL:https://haus37.de/event/buschorchester-voices-und-percussion/
LOCATION:Haus 037 – Saal A\, Alfred-Döblin-Platz 1\, Freiburg\, 79100
CATEGORIES:Konzerte
ATTACH;FMTTYPE=image/jpeg:https://haus37.de/mat-box/uploads/2024/10/Busch_klein_web-1.jpg
END:VEVENT
BEGIN:VEVENT
DTSTART;TZID=Europe/Berlin:20241206T200000
DTEND;TZID=Europe/Berlin:20241206T220000
DTSTAMP:20260421T183946
CREATED:20241030T124840Z
LAST-MODIFIED:20241107T131406Z
UID:19249-1733515200-1733522400@haus37.de
SUMMARY:"Krieg für den Frieden?" - eine musikalische Lesung mit Obermaier\, Spagl und Zentawer
DESCRIPTION:„Krieg für den Frieden?“ ist eine Textcollage aus Zeitungsartikeln\, Tagebuchnotizen\, Songtexten\, literarischen Zitaten und eigenen Reflektionen. Das Fließende im Formalen – in der Auswahl der Textarten und im Verhältnis von Sprache und Musik – entspricht dem Wunsch von Renate Obermaier und Heinzl Spagl\, das Denken wieder ins Fließen zu bringen. Die Textcollage will ermutigen\, wieder zuzuhören\, eigenständig zu denken\, auch jenseits der Angst\, wegen der eigenen Position diffamiert zu werden. \nTanjev Schulz\, Professor für Journalistik\, schreibt: „Woran … es fehlt: an der Einsicht\, dass es auch für andere Positionen gute Gründe geben kann. Nötig ist mehr Mut zur Mehrdeutigkeit.“ \nMax Zentawer an der Gitarre geht eigene Wege: Er begleitet uns und erzählt mit seinem Spiel und seinen Tönen\, was ihn vor allem mit dem Thema verbindet. \nFotos: Marc Doradzillo\, csk-Foto \nTickets reservieren unter mail@haus37.de
URL:https://haus37.de/event/wenn-die-gedanken-kreisen-musikalische-lesung-mit-obermaier-spagl-und-zentawer/
LOCATION:Haus 037 – Saal A\, Alfred-Döblin-Platz 1\, Freiburg\, 79100
CATEGORIES:Lesung mit Musik
ATTACH;FMTTYPE=image/jpeg:https://haus37.de/mat-box/uploads/2024/10/heinzl-renate-und-max_web.jpg
END:VEVENT
END:VCALENDAR